BEGIN:VCALENDAR
VERSION:2.0
PRODID:-// - ECPv6.15.17//NONSGML v1.0//EN
CALSCALE:GREGORIAN
METHOD:PUBLISH
X-ORIGINAL-URL:https://www.unglobalcompact.org.uk
X-WR-CALDESC:Events for 
REFRESH-INTERVAL;VALUE=DURATION:PT1H
X-Robots-Tag:noindex
X-PUBLISHED-TTL:PT1H
BEGIN:VTIMEZONE
TZID:Europe/London
BEGIN:DAYLIGHT
TZOFFSETFROM:+0000
TZOFFSETTO:+0100
TZNAME:BST
DTSTART:20250330T010000
END:DAYLIGHT
BEGIN:STANDARD
TZOFFSETFROM:+0100
TZOFFSETTO:+0000
TZNAME:GMT
DTSTART:20251026T010000
END:STANDARD
BEGIN:DAYLIGHT
TZOFFSETFROM:+0000
TZOFFSETTO:+0100
TZNAME:BST
DTSTART:20260329T010000
END:DAYLIGHT
BEGIN:STANDARD
TZOFFSETFROM:+0100
TZOFFSETTO:+0000
TZNAME:GMT
DTSTART:20261025T010000
END:STANDARD
BEGIN:DAYLIGHT
TZOFFSETFROM:+0000
TZOFFSETTO:+0100
TZNAME:BST
DTSTART:20270328T010000
END:DAYLIGHT
BEGIN:STANDARD
TZOFFSETFROM:+0100
TZOFFSETTO:+0000
TZNAME:GMT
DTSTART:20271031T010000
END:STANDARD
END:VTIMEZONE
BEGIN:VEVENT
DTSTART;TZID=Europe/London:20260422T140000
DTEND;TZID=Europe/London:20260422T170000
DTSTAMP:20260420T132449
CREATED:20260126T180521Z
LAST-MODIFIED:20260325T121454Z
UID:10000819-1776866400-1776877200@www.unglobalcompact.org.uk
SUMMARY:Nature Working Group: Meeting 1
DESCRIPTION:This group provides a peer-learning forum for companies to share approaches and challenges related to identifying\, addressing\, and disclosing nature-related dependencies\, impacts\, risks\, and opportunities.
URL:https://www.unglobalcompact.org.uk/events/nature-working-group-meeting-1-4/
CATEGORIES:Environment
END:VEVENT
BEGIN:VEVENT
DTSTART;TZID=Europe/London:20260514T090000
DTEND;TZID=Europe/London:20260514T090000
DTSTAMP:20260420T132449
CREATED:20260126T174831Z
LAST-MODIFIED:20260126T174831Z
UID:10000805-1778749200-1778749200@www.unglobalcompact.org.uk
SUMMARY:Nature Action Dialogues
DESCRIPTION:The Nature Action Dialogues provide a unique and powerful forum where business\, finance and conservation leaders meet as peers to advance collaboration at the nexus of biodiversity\, climate\, water\, and health. This is a working space to accelerate change\, shape leadership\, and unlock sustainable growth while halting and reversing nature loss. 
URL:https://www.unglobalcompact.org.uk/events/nature-action-dialogues/
CATEGORIES:Environment
END:VEVENT
BEGIN:VEVENT
DTSTART;TZID=Europe/London:20260519T100000
DTEND;TZID=Europe/London:20260519T100000
DTSTAMP:20260420T132449
CREATED:20260126T174830Z
LAST-MODIFIED:20260126T174830Z
UID:10000803-1779184800-1779184800@www.unglobalcompact.org.uk
SUMMARY:Nature Ambition Accelerator: Workshop 3 - Assess (cont.)
DESCRIPTION:This accelerator is a capacity-building programme designed to support companies to undertake a nature materiality assessment and set science-based targets for nature\, in line with the Science Based Targets Network (SBTN) methodology. Delivered in collaboration with Ramboll UK\, the accelerator will support companies to build in-house expertise on the SBTN methods\, identify their current readiness levels to set science-based targets for nature\, and take steps to increase preparedness.  
URL:https://www.unglobalcompact.org.uk/events/nature-ambition-accelerator-workshop-3-assess-cont/
CATEGORIES:Environment
END:VEVENT
BEGIN:VEVENT
DTSTART;TZID=Europe/London:20260601T140000
DTEND;TZID=Europe/London:20260601T140000
DTSTAMP:20260420T132449
CREATED:20260126T174631Z
LAST-MODIFIED:20260126T174631Z
UID:10000800-1780322400-1780322400@www.unglobalcompact.org.uk
SUMMARY:Sustainability Essentials for Core Functions: Corporate Affairs
DESCRIPTION:This event will equip professionals in corporate affairs with the knowledge and understanding to contribute to their organisation’s sustainability goals in their day-to-day work. It will explore the intersections of corporate affairs and sustainability\, what teams need to know to support ESG integration across the business\, and how both functions can collaborate effectively to drive shared objectives.
URL:https://www.unglobalcompact.org.uk/events/sustainability-essentials-for-core-functions-corporate-affairs/
CATEGORIES:Environment
END:VEVENT
BEGIN:VEVENT
DTSTART;TZID=Europe/London:20260602T140000
DTEND;TZID=Europe/London:20260602T140000
DTSTAMP:20260420T132449
CREATED:20260126T174630Z
LAST-MODIFIED:20260126T174630Z
UID:10000798-1780408800-1780408800@www.unglobalcompact.org.uk
SUMMARY:Nature Working Group: Meeting 2
DESCRIPTION:This group provides a peer-learning forum for companies to share approaches and challenges related to identifying\, addressing\, and disclosing nature-related dependencies\, impacts\, risks\, and opportunities.
URL:https://www.unglobalcompact.org.uk/events/nature-working-group-meeting-2-4/
CATEGORIES:Environment
END:VEVENT
BEGIN:VEVENT
DTSTART;TZID=Europe/London:20260604T140000
DTEND;TZID=Europe/London:20260604T140000
DTSTAMP:20260420T132449
CREATED:20260126T174431Z
LAST-MODIFIED:20260126T174431Z
UID:10000796-1780581600-1780581600@www.unglobalcompact.org.uk
SUMMARY:Climate Peer Learning Group: Meeting 2
DESCRIPTION:This exclusive forum is to support companies with advanced climate strategies that are seeking a network to discuss obstacles\, innovation\, collaboration\, and best practices relating to science-based net zero targets and decarbonisation pathways.
URL:https://www.unglobalcompact.org.uk/events/climate-peer-learning-group-meeting-2-4/
CATEGORIES:Environment
END:VEVENT
BEGIN:VEVENT
DTSTART;TZID=Europe/London:20260609T100000
DTEND;TZID=Europe/London:20260609T100000
DTSTAMP:20260420T132449
CREATED:20260126T174431Z
LAST-MODIFIED:20260126T174431Z
UID:10000795-1780999200-1780999200@www.unglobalcompact.org.uk
SUMMARY:Nature Ambition Accelerator: Workshop 4 - Prioritise
DESCRIPTION:This accelerator is a capacity-building programme designed to support companies to undertake a nature materiality assessment and set science-based targets for nature\, in line with the Science Based Targets Network (SBTN) methodology. Delivered in collaboration with Ramboll UK\, the accelerator will support companies to build in-house expertise on the SBTN methods\, identify their current readiness levels to set science-based targets for nature\, and take steps to increase preparedness.  
URL:https://www.unglobalcompact.org.uk/events/nature-ambition-accelerator-workshop-4-prioritise/
CATEGORIES:Environment
END:VEVENT
BEGIN:VEVENT
DTSTART;TZID=Europe/London:20260616T140000
DTEND;TZID=Europe/London:20260616T140000
DTSTAMP:20260420T132449
CREATED:20260126T174230Z
LAST-MODIFIED:20260126T174230Z
UID:10000791-1781618400-1781618400@www.unglobalcompact.org.uk
SUMMARY:Circular Economy Working Group: Meeting 2
DESCRIPTION:The group provides a forum for companies to discuss ongoing challenges and solutions related to the implementation of circular economy principles that support businesses to reduce greenhouse gas emissions and create positive outcomes for nature and people. This group is for companies that have already begun to identify and address their material impacts\, risks\, and opportunities related to resource use and the circular economy\, and are keen to further build their understanding\, discuss challenges and opportunities\, and learn from experts and peers. 
URL:https://www.unglobalcompact.org.uk/events/circular-economy-working-group-meeting-2-2/
CATEGORIES:Environment
END:VEVENT
BEGIN:VEVENT
DTSTART;TZID=Europe/London:20260630T093000
DTEND;TZID=Europe/London:20260630T093000
DTSTAMP:20260420T132449
CREATED:20260126T174030Z
LAST-MODIFIED:20260126T174030Z
UID:10000785-1782811800-1782811800@www.unglobalcompact.org.uk
SUMMARY:Nature Ambition Accelerator: Workshop 5 - Freshwater: Setting Targets and Act & Track
DESCRIPTION:This accelerator is a capacity-building programme designed to support companies to undertake a nature materiality assessment and set science-based targets for nature\, in line with the Science Based Targets Network (SBTN) methodology. Delivered in collaboration with Ramboll UK\, the accelerator will support companies to build in-house expertise on the SBTN methods\, identify their current readiness levels to set science-based targets for nature\, and take steps to increase preparedness.  
URL:https://www.unglobalcompact.org.uk/events/nature-ambition-accelerator-workshop-5-freshwater-setting-targets-and-act-track/
CATEGORIES:Environment
END:VEVENT
BEGIN:VEVENT
DTSTART;TZID=Europe/London:20260707T093000
DTEND;TZID=Europe/London:20260707T093000
DTSTAMP:20260420T132449
CREATED:20260126T174029Z
LAST-MODIFIED:20260126T174029Z
UID:10000784-1783416600-1783416600@www.unglobalcompact.org.uk
SUMMARY:Nature Ambition Accelerator: Workshop 6 - Land: Setting Targets and Act & Track
DESCRIPTION:This accelerator is a capacity-building programme designed to support companies to undertake a nature materiality assessment and set science-based targets for nature\, in line with the Science Based Targets Network (SBTN) methodology. Delivered in collaboration with Ramboll UK\, the accelerator will support companies to build in-house expertise on the SBTN methods\, identify their current readiness levels to set science-based targets for nature\, and take steps to increase preparedness.  
URL:https://www.unglobalcompact.org.uk/events/nature-ambition-accelerator-workshop-6-land-setting-targets-and-act-track/
CATEGORIES:Environment
END:VEVENT
BEGIN:VEVENT
DTSTART;TZID=Europe/London:20260909T140000
DTEND;TZID=Europe/London:20260909T140000
DTSTAMP:20260420T132449
CREATED:20260126T173829Z
LAST-MODIFIED:20260126T173829Z
UID:10000778-1788962400-1788962400@www.unglobalcompact.org.uk
SUMMARY:Nature Working Group: Meeting 3
DESCRIPTION:This group provides a peer-learning forum for companies to share approaches and challenges related to identifying\, addressing\, and disclosing nature-related dependencies\, impacts\, risks\, and opportunities.
URL:https://www.unglobalcompact.org.uk/events/nature-working-group-meeting-3-4/
CATEGORIES:Environment
END:VEVENT
BEGIN:VEVENT
DTSTART;TZID=Europe/London:20260910T140000
DTEND;TZID=Europe/London:20260910T140000
DTSTAMP:20260420T132449
CREATED:20260126T173829Z
LAST-MODIFIED:20260126T173829Z
UID:10000777-1789048800-1789048800@www.unglobalcompact.org.uk
SUMMARY:Climate Peer Learning Group: Meeting 3
DESCRIPTION:This exclusive forum is to support companies with advanced climate strategies that are seeking a network to discuss obstacles\, innovation\, collaboration\, and best practices relating to science-based net zero targets and decarbonisation pathways.
URL:https://www.unglobalcompact.org.uk/events/climate-peer-learning-group-meeting-3-4/
CATEGORIES:Environment
END:VEVENT
BEGIN:VEVENT
DTSTART;TZID=Europe/London:20260915T140000
DTEND;TZID=Europe/London:20260915T140000
DTSTAMP:20260420T132449
CREATED:20260126T173629Z
LAST-MODIFIED:20260126T173629Z
UID:10000776-1789480800-1789480800@www.unglobalcompact.org.uk
SUMMARY:Nature Ambition Accelerator: Workshop 7 - Making the Business Case for Science-based Targets for Nature
DESCRIPTION:This accelerator is a capacity-building programme designed to support companies to undertake a nature materiality assessment and set science-based targets for nature\, in line with the Science Based Targets Network (SBTN) methodology. Delivered in collaboration with Ramboll UK\, the accelerator will support companies to build in-house expertise on the SBTN methods\, identify their current readiness levels to set science-based targets for nature\, and take steps to increase preparedness.  
URL:https://www.unglobalcompact.org.uk/events/nature-ambition-accelerator-workshop-7-making-the-business-case-for-science-based-targets-for-nature/
CATEGORIES:Environment
END:VEVENT
BEGIN:VEVENT
DTSTART;TZID=Europe/London:20260917T140000
DTEND;TZID=Europe/London:20260917T140000
DTSTAMP:20260420T132449
CREATED:20260126T173629Z
LAST-MODIFIED:20260126T173629Z
UID:10000774-1789653600-1789653600@www.unglobalcompact.org.uk
SUMMARY:Sustainability Essentials for Core Functions: Business Development
DESCRIPTION:This event will equip professionals in business development with the knowledge and understanding to contribute to their organisation’s sustainability goals in their day-to-day work. It will explore the intersections of business development and sustainability\, what teams need to know to support ESG integration across the business\, and how both functions can collaborate effectively to drive shared objectives.
URL:https://www.unglobalcompact.org.uk/events/sustainability-essentials-for-core-functions-business-development/
CATEGORIES:Environment
END:VEVENT
BEGIN:VEVENT
DTSTART;TZID=Europe/London:20260922T140000
DTEND;TZID=Europe/London:20260922T140000
DTSTAMP:20260420T132449
CREATED:20260126T173429Z
LAST-MODIFIED:20260126T173429Z
UID:10000771-1790085600-1790085600@www.unglobalcompact.org.uk
SUMMARY:Circular Economy Working Group: Meeting 3
DESCRIPTION:The group provides a forum for companies to discuss ongoing challenges and solutions related to the implementation of circular economy principles that support businesses to reduce greenhouse gas emissions and create positive outcomes for nature and people. This group is for companies that have already begun to identify and address their material impacts\, risks\, and opportunities related to resource use and the circular economy\, and are keen to further build their understanding\, discuss challenges and opportunities\, and learn from experts and peers. 
URL:https://www.unglobalcompact.org.uk/events/circular-economy-working-group-meeting-3-2/
CATEGORIES:Environment
END:VEVENT
BEGIN:VEVENT
DTSTART;TZID=Europe/London:20261102T140000
DTEND;TZID=Europe/London:20261102T140000
DTSTAMP:20260420T132449
CREATED:20260126T173027Z
LAST-MODIFIED:20260126T173027Z
UID:10000761-1793628000-1793628000@www.unglobalcompact.org.uk
SUMMARY:Sustainability Essentials for Core Functions: Briefs Launch Event
DESCRIPTION:This event will wrap up the ‘Sustainability Essentials for Core Functions’ series\, exploring further ways that sustainability professionals can embed ESG within their organisations. It will also launch a series of seven briefs covering each of the sessions from 2025 and 2026.
URL:https://www.unglobalcompact.org.uk/events/sustainability-essentials-for-core-functions-briefs-launch-event/
CATEGORIES:Environment
END:VEVENT
BEGIN:VEVENT
DTSTART;TZID=Europe/London:20261124T140000
DTEND;TZID=Europe/London:20261124T140000
DTSTAMP:20260420T132449
CREATED:20260126T173023Z
LAST-MODIFIED:20260126T173023Z
UID:10000756-1795528800-1795528800@www.unglobalcompact.org.uk
SUMMARY:Nature Working Group: Meeting 4
DESCRIPTION:This group provides a peer-learning forum for companies to share approaches and challenges related to identifying\, addressing\, and disclosing nature-related dependencies\, impacts\, risks\, and opportunities.
URL:https://www.unglobalcompact.org.uk/events/nature-working-group-meeting-4-4/
CATEGORIES:Environment
END:VEVENT
BEGIN:VEVENT
DTSTART;TZID=Europe/London:20261126T140000
DTEND;TZID=Europe/London:20261126T140000
DTSTAMP:20260420T132449
CREATED:20260126T173023Z
LAST-MODIFIED:20260126T173023Z
UID:10000755-1795701600-1795701600@www.unglobalcompact.org.uk
SUMMARY:Circular Economy Working Group: Meeting 4
DESCRIPTION:The group provides a forum for companies to discuss ongoing challenges and solutions related to the implementation of circular economy principles that support businesses to reduce greenhouse gas emissions and create positive outcomes for nature and people. This group is for companies that have already begun to identify and address their material impacts\, risks\, and opportunities related to resource use and the circular economy\, and are keen to further build their understanding\, discuss challenges and opportunities\, and learn from experts and peers. 
URL:https://www.unglobalcompact.org.uk/events/circular-economy-working-group-meeting-4-2/
CATEGORIES:Environment
END:VEVENT
BEGIN:VEVENT
DTSTART;TZID=Europe/London:20261203T140000
DTEND;TZID=Europe/London:20261203T140000
DTSTAMP:20260420T132449
CREATED:20260126T173023Z
LAST-MODIFIED:20260126T173023Z
UID:10000752-1796306400-1796306400@www.unglobalcompact.org.uk
SUMMARY:Climate Peer Learning Group: Meeting 4
DESCRIPTION:This exclusive forum is to support companies with advanced climate strategies that are seeking a network to discuss obstacles\, innovation\, collaboration\, and best practices relating to science-based net zero targets and decarbonisation pathways.
URL:https://www.unglobalcompact.org.uk/events/climate-peer-learning-group-meeting-4-4/
CATEGORIES:Environment
END:VEVENT
END:VCALENDAR